BEGIN:VCALENDAR
VERSION:2.0
PRODID:-//nwsoco.org//NONSGML kigkonsult.se iCalcreator 2.30.10//
CALSCALE:GREGORIAN
METHOD:PUBLISH
UID:59add2aa-1638-459c-9a9e-5760d10e649b
X-WR-CALDESC:Come Pop-In at NeighborWorks Southern Colorado for Business Af
 ter Hours!
X-WR-RELCALID:9b634f984db7e0daffd88d1e2ec5ea2c
X-WR-TIMEZONE:America/Denver
BEGIN:VTIMEZONE
TZID:America/Denver
BEGIN:STANDARD
TZNAME:MST
DTSTART:20231105T020000
TZOFFSETFROM:-0600
TZOFFSETTO:-0700
RDATE:20241103T020000
RDATE:20251102T020000
END:STANDARD
BEGIN:DAYLIGHT
TZNAME:MDT
DTSTART:20240310T020000
TZOFFSETFROM:-0700
TZOFFSETTO:-0600
RDATE:20250309T020000
RDATE:20260308T020000
END:DAYLIGHT
END:VTIMEZONE
BEGIN:VEVENT
UID:71489252-4153-4fc1-8f54-7c8e53ae3e1d
DTSTAMP:20260425T015937Z
DESCRIPTION:Come Pop-In at NeighborWorks Southern Colorado for Business Aft
 er Hours!
DTSTART;TZID=America/Denver:20241017T170000
DTEND;TZID=America/Denver:20241017T190000
LOCATION:1241 E Routt Ave\, Pueblo\, CO 81004 US
SUMMARY:Business After Hours
END:VEVENT
END:VCALENDAR
