BEGIN:VCALENDAR
VERSION:2.0
PRODID:-//nwsoco.org//NONSGML kigkonsult.se iCalcreator 2.30.10//
CALSCALE:GREGORIAN
METHOD:PUBLISH
UID:415759c4-ba0b-425f-9721-6d5042ab9bc7
X-WR-CALDESC:
X-WR-RELCALID:3bc8e35103cfa5bb5ed005be942ca388
X-WR-TIMEZONE:America/Denver
BEGIN:VTIMEZONE
TZID:America/Denver
BEGIN:STANDARD
TZNAME:MST
DTSTART:20241103T020000
TZOFFSETFROM:-0600
TZOFFSETTO:-0700
RDATE:20251102T020000
END:STANDARD
BEGIN:DAYLIGHT
TZNAME:MDT
DTSTART:20250309T020000
TZOFFSETFROM:-0700
TZOFFSETTO:-0600
RDATE:20260308T020000
END:DAYLIGHT
END:VTIMEZONE
BEGIN:VEVENT
UID:56e9bb6f-769f-4fd8-9935-125f70f3531e
DTSTAMP:20260424T173550Z
DESCRIPTION:
DTSTART;TZID=America/Denver:20250315T090000
DTEND;TZID=America/Denver:20250315T150000
LOCATION:1241 E Routt Ave\,\, PUEBLO\, CO 81004 US
SUMMARY:Homebuyer Education - Pueblo
END:VEVENT
END:VCALENDAR
