BEGIN:VCALENDAR
VERSION:2.0
PRODID:-//nwsoco.org//NONSGML kigkonsult.se iCalcreator 2.30.10//
CALSCALE:GREGORIAN
METHOD:PUBLISH
UID:6d0bcb26-4830-4a77-91e8-77d1cf3eec78
X-WR-CALDESC:
X-WR-RELCALID:9fc702beec55221b3518147d79e5257b
X-WR-TIMEZONE:America/Denver
BEGIN:VTIMEZONE
TZID:America/Denver
BEGIN:STANDARD
TZNAME:MST
DTSTART:20241103T020000
TZOFFSETFROM:-0600
TZOFFSETTO:-0700
RDATE:20251102T020000
RDATE:20261101T020000
END:STANDARD
BEGIN:DAYLIGHT
TZNAME:MDT
DTSTART:20250309T020000
TZOFFSETFROM:-0700
TZOFFSETTO:-0600
RDATE:20260308T020000
END:DAYLIGHT
END:VTIMEZONE
BEGIN:VEVENT
UID:10ecec7e-a5dc-47ae-847a-0a5a07b656ba
DTSTAMP:20260424T100239Z
DESCRIPTION:
DTSTART;TZID=America/Denver:20250809T090000
DTEND;TZID=America/Denver:20250809T150000
LOCATION:1241 E Routt Ave\,\, PUEBLO\, AL 81004 US
SUMMARY:Homebuyer Education - Pueblo
END:VEVENT
END:VCALENDAR
