BEGIN:VCALENDAR
VERSION:2.0
PRODID:-//nwsoco.org//NONSGML kigkonsult.se iCalcreator 2.30.10//
CALSCALE:GREGORIAN
METHOD:PUBLISH
UID:3c46c587-d23e-4f34-8da2-503c61fed2f6
X-WR-CALDESC:
X-WR-RELCALID:81a067eb328c67b8bd852b7a480e1fc5
X-WR-TIMEZONE:America/Denver
BEGIN:VTIMEZONE
TZID:America/Denver
BEGIN:STANDARD
TZNAME:MST
DTSTART:20241103T020000
TZOFFSETFROM:-0600
TZOFFSETTO:-0700
RDATE:20251102T020000
RDATE:20261101T020000
END:STANDARD
BEGIN:DAYLIGHT
TZNAME:MDT
DTSTART:20250309T020000
TZOFFSETFROM:-0700
TZOFFSETTO:-0600
RDATE:20260308T020000
RDATE:20270314T020000
END:DAYLIGHT
END:VTIMEZONE
BEGIN:VEVENT
UID:d43e8bf0-0110-407c-a20d-47f02374a3db
DTSTAMP:20260424T082242Z
DESCRIPTION:
DTSTART;TZID=America/Denver:20250924T090000
DTEND;TZID=America/Denver:20250924T150000
LOCATION:1661 Mesa Ave.\, Colorado Springs\, AL 80906 US
SUMMARY:Homebuyer Education - Colorado Springs
END:VEVENT
END:VCALENDAR
