BEGIN:VCALENDAR
VERSION:2.0
PRODID:-//nwsoco.org//NONSGML kigkonsult.se iCalcreator 2.30.10//
CALSCALE:GREGORIAN
METHOD:PUBLISH
UID:89725172-c214-4df2-bef4-fddc00e43e1d
X-WR-CALDESC:NeighborWorks Southern Colorado's monthly Board Meeting
X-WR-RELCALID:2644043af3003c4f3f788e8b7012bcdd
X-WR-TIMEZONE:America/Denver
BEGIN:VTIMEZONE
TZID:America/Denver
BEGIN:STANDARD
TZNAME:MST
DTSTART:20251102T020000
TZOFFSETFROM:-0600
TZOFFSETTO:-0700
RDATE:20261101T020000
END:STANDARD
BEGIN:DAYLIGHT
TZNAME:MDT
DTSTART:20250309T020000
TZOFFSETFROM:-0700
TZOFFSETTO:-0600
RDATE:20260308T020000
RDATE:20270314T020000
END:DAYLIGHT
END:VTIMEZONE
BEGIN:VEVENT
UID:5398e24a-1dc4-4b2d-a534-09f0285a3459
DTSTAMP:20260422T084211Z
DESCRIPTION:NeighborWorks Southern Colorado's monthly Board Meeting
DTSTART;TZID=America/Denver:20260106T160000
DTEND;TZID=America/Denver:20260106T180000
LOCATION:1241 E Routt Ave\, Pueblo\, CO 81004 US
SUMMARY:NWSoCo Board Meeting
END:VEVENT
END:VCALENDAR
