BEGIN:VCALENDAR
VERSION:2.0
PRODID:-//nwsoco.org//NONSGML kigkonsult.se iCalcreator 2.30.10//
CALSCALE:GREGORIAN
METHOD:PUBLISH
UID:719d52bb-45e2-4d85-a7d5-069d042a4336
X-WR-CALDESC:NeighborWorks Southern Colorado's monthly Board Meeting
X-WR-RELCALID:2833cd14777ed7c736c4a7d900948918
X-WR-TIMEZONE:America/Denver
BEGIN:VTIMEZONE
TZID:America/Denver
BEGIN:STANDARD
TZNAME:MST
DTSTART:20251102T020000
TZOFFSETFROM:-0600
TZOFFSETTO:-0700
RDATE:20261101T020000
RDATE:20271107T020000
END:STANDARD
BEGIN:DAYLIGHT
TZNAME:MDT
DTSTART:20260308T020000
TZOFFSETFROM:-0700
TZOFFSETTO:-0600
RDATE:20270314T020000
RDATE:20280312T020000
END:DAYLIGHT
END:VTIMEZONE
BEGIN:VEVENT
UID:b8b9ddd1-790b-4294-b747-66c7f81c5625
DTSTAMP:20260424T125646Z
DESCRIPTION:NeighborWorks Southern Colorado's monthly Board Meeting
DTSTART;TZID=America/Denver:20261006T160000
DTEND;TZID=America/Denver:20261006T180000
LOCATION:1241 E Routt Ave\, Pueblo\, CO 81004 US
SUMMARY:NWSoCo Board Meeting
END:VEVENT
END:VCALENDAR
