BEGIN:VCALENDAR
VERSION:2.0
PRODID:-//nwsoco.org//NONSGML kigkonsult.se iCalcreator 2.30.10//
CALSCALE:GREGORIAN
METHOD:PUBLISH
UID:285b8a8d-be85-4849-8b56-eb317b420d6d
X-WR-CALDESC:
X-WR-RELCALID:de0bcf9b3f9f76860d1a143e4e47434c
X-WR-TIMEZONE:America/Denver
BEGIN:VTIMEZONE
TZID:America/Denver
BEGIN:STANDARD
TZNAME:MST
DTSTART:20261101T020000
TZOFFSETFROM:-0600
TZOFFSETTO:-0700
RDATE:20271107T020000
END:STANDARD
BEGIN:DAYLIGHT
TZNAME:MDT
DTSTART:20260308T020000
TZOFFSETFROM:-0700
TZOFFSETTO:-0600
RDATE:20270314T020000
RDATE:20280312T020000
END:DAYLIGHT
END:VTIMEZONE
BEGIN:VEVENT
UID:d53507bb-75cc-40f0-9da0-f398a8f076df
DTSTAMP:20260424T144639Z
DESCRIPTION:
DTSTART;TZID=America/Denver:20261103T100000
DTEND;TZID=America/Denver:20261103T160000
LOCATION:415 Walsen Ave\, Walsenburg\, AL 81089 US
SUMMARY:Homebuyer Education - Walsenburg
END:VEVENT
END:VCALENDAR
