BEGIN:VCALENDAR
VERSION:2.0
PRODID:-//nwsoco.org//NONSGML kigkonsult.se iCalcreator 2.30.10//
CALSCALE:GREGORIAN
METHOD:PUBLISH
UID:8e5a5c1e-85f7-4739-af0a-34c11af02363
X-WR-CALDESC:NeighborWorks Southern Colorado's monthly Board Meeting
X-WR-RELCALID:1b66fe916c18b8c0f5beee2744817dd1
X-WR-TIMEZONE:America/Denver
BEGIN:VTIMEZONE
TZID:America/Denver
BEGIN:STANDARD
TZNAME:MST
DTSTART:20271107T020000
TZOFFSETFROM:-0600
TZOFFSETTO:-0700
RDATE:20281105T020000
RDATE:20291104T020000
END:STANDARD
BEGIN:DAYLIGHT
TZNAME:MDT
DTSTART:20280312T020000
TZOFFSETFROM:-0700
TZOFFSETTO:-0600
RDATE:20290311T020000
RDATE:20300310T020000
END:DAYLIGHT
END:VTIMEZONE
BEGIN:VEVENT
UID:401c9368-eb2f-4dab-ae2f-fdf641659011
DTSTAMP:20260426T032611Z
DESCRIPTION:NeighborWorks Southern Colorado's monthly Board Meeting
DTSTART;TZID=America/Denver:20281003T160000
DTEND;TZID=America/Denver:20281003T180000
LOCATION:1241 E Routt Ave\, Pueblo\, CO 81004 US
SUMMARY:NWSoCo Board Meeting
END:VEVENT
END:VCALENDAR
