BEGIN:VCALENDAR
VERSION:2.0
PRODID:-//nwsoco.org//NONSGML kigkonsult.se iCalcreator 2.30.10//
CALSCALE:GREGORIAN
METHOD:PUBLISH
UID:5c9f0501-174e-44fc-a012-2c3b5e460816
X-WR-CALDESC:A guide to creating financial confidence and stability for you
  and your family\, and is the first step on your road to homeownership.
X-WR-RELCALID:520ec49540f123bf3f6ac27090797fc6
X-WR-TIMEZONE:America/Denver
BEGIN:VTIMEZONE
TZID:America/Denver
BEGIN:STANDARD
TZNAME:MST
DTSTART:20221106T020000
TZOFFSETFROM:-0600
TZOFFSETTO:-0700
RDATE:20231105T020000
END:STANDARD
BEGIN:DAYLIGHT
TZNAME:MDT
DTSTART:20220313T020000
TZOFFSETFROM:-0700
TZOFFSETTO:-0600
RDATE:20230312T020000
RDATE:20240310T020000
END:DAYLIGHT
END:VTIMEZONE
BEGIN:VEVENT
UID:64e7d86e-651f-4dbf-b23e-2c87a4195be9
DTSTAMP:20260420T090822Z
DESCRIPTION:A guide to creating financial confidence and stability for you 
 and your family\, and is the first step on your road to homeownership.
DTSTART;TZID=America/Denver:20230310T130000
DTEND;TZID=America/Denver:20230310T160000
LOCATION:900 W Orman Ave\, Rm. AB 274\, Pueblo\, CO 81004 US
SUMMARY:Financial Fitness Class - Pueblo
END:VEVENT
END:VCALENDAR
