BEGIN:VCALENDAR
VERSION:2.0
PRODID:-//nwsoco.org//NONSGML kigkonsult.se iCalcreator 2.30.10//
CALSCALE:GREGORIAN
METHOD:PUBLISH
UID:a79c6991-c8bf-4953-b2d2-31e76aa5740f
X-WR-CALDESC:
X-WR-RELCALID:ff1cb63821722c273c51fb8267ce4b3e
X-WR-TIMEZONE:America/Denver
BEGIN:VTIMEZONE
TZID:America/Denver
BEGIN:STANDARD
TZNAME:MST
DTSTART:20221106T020000
TZOFFSETFROM:-0600
TZOFFSETTO:-0700
RDATE:20231105T020000
RDATE:20241103T020000
END:STANDARD
BEGIN:DAYLIGHT
TZNAME:MDT
DTSTART:20230312T020000
TZOFFSETFROM:-0700
TZOFFSETTO:-0600
RDATE:20240310T020000
END:DAYLIGHT
END:VTIMEZONE
BEGIN:VEVENT
UID:f8998796-2a47-4e72-9dc0-0b9832885c4d
DTSTAMP:20260422T101721Z
DESCRIPTION:
DTSTART;TZID=America/Denver:20230511T100000
DTEND;TZID=America/Denver:20230511T160000
LOCATION:415 Walsen Ave\, Walsenburg\, CO 81089 US
SUMMARY:Homebuyer Education - Walsenburg
END:VEVENT
END:VCALENDAR
