BEGIN:VCALENDAR
VERSION:2.0
PRODID:-//nwsoco.org//NONSGML kigkonsult.se iCalcreator 2.30.10//
CALSCALE:GREGORIAN
METHOD:PUBLISH
UID:bfefffbd-4620-4e2e-bebf-8583ed0bf8fb
X-WR-CALDESC:
X-WR-RELCALID:435b59108e99a5cf7f5f6f57021e6392
X-WR-TIMEZONE:America/Denver
BEGIN:VTIMEZONE
TZID:America/Denver
BEGIN:STANDARD
TZNAME:MST
DTSTART:20221106T020000
TZOFFSETFROM:-0600
TZOFFSETTO:-0700
RDATE:20231105T020000
RDATE:20241103T020000
END:STANDARD
BEGIN:DAYLIGHT
TZNAME:MDT
DTSTART:20230312T020000
TZOFFSETFROM:-0700
TZOFFSETTO:-0600
RDATE:20240310T020000
END:DAYLIGHT
END:VTIMEZONE
BEGIN:VEVENT
UID:079a6489-9ac5-4e9e-bf24-798129fb9d46
DTSTAMP:20260422T131458Z
DESCRIPTION:
DTSTART;TZID=America/Denver:20230706T100000
DTEND;TZID=America/Denver:20230706T160000
LOCATION:415 Walsen Ave.\, Walsenburg\, CO 81089 US
SUMMARY:Homebuyer Education - Walsenburg
END:VEVENT
END:VCALENDAR
