BEGIN:VCALENDAR
VERSION:2.0
PRODID:-//nwsoco.org//NONSGML kigkonsult.se iCalcreator 2.30.10//
CALSCALE:GREGORIAN
METHOD:PUBLISH
UID:5ee62f31-5c49-4a4e-ad8c-2f150101366f
X-WR-CALDESC:A guide to creating financial confidence and stability for you
  and your family\, and is the first step on your road to homeownership.
X-WR-RELCALID:7f5962acd15e40a8bd3b8d688c09b62d
X-WR-TIMEZONE:America/Denver
BEGIN:VTIMEZONE
TZID:America/Denver
BEGIN:STANDARD
TZNAME:MST
DTSTART:20221106T020000
TZOFFSETFROM:-0600
TZOFFSETTO:-0700
RDATE:20231105T020000
RDATE:20241103T020000
END:STANDARD
BEGIN:DAYLIGHT
TZNAME:MDT
DTSTART:20230312T020000
TZOFFSETFROM:-0700
TZOFFSETTO:-0600
RDATE:20240310T020000
END:DAYLIGHT
END:VTIMEZONE
BEGIN:VEVENT
UID:7f18078c-92c9-43d8-b22d-f51ce7ac8643
DTSTAMP:20260422T131351Z
DESCRIPTION:A guide to creating financial confidence and stability for you 
 and your family\, and is the first step on your road to homeownership.
DTSTART;TZID=America/Denver:20230728T130000
DTEND;TZID=America/Denver:20230728T160000
LOCATION:NWSOCO Meeting Room
SUMMARY:Financial Fitness Class - Pueblo
END:VEVENT
END:VCALENDAR
