BEGIN:VCALENDAR
VERSION:2.0
PRODID:-//nwsoco.org//NONSGML kigkonsult.se iCalcreator 2.30.10//
CALSCALE:GREGORIAN
METHOD:PUBLISH
UID:afbdf91e-69c1-449b-b53a-0ffe00ec04fc
X-WR-CALDESC:Join us for our Annual Celebration of Home Fundraising Dinner!
X-WR-RELCALID:c4a3139d77158880de2cf74bf4241f0d
X-WR-TIMEZONE:America/Denver
BEGIN:VTIMEZONE
TZID:America/Denver
BEGIN:STANDARD
TZNAME:MST
DTSTART:20221106T020000
TZOFFSETFROM:-0600
TZOFFSETTO:-0700
RDATE:20231105T020000
RDATE:20241103T020000
END:STANDARD
BEGIN:DAYLIGHT
TZNAME:MDT
DTSTART:20230312T020000
TZOFFSETFROM:-0700
TZOFFSETTO:-0600
RDATE:20240310T020000
END:DAYLIGHT
END:VTIMEZONE
BEGIN:VEVENT
UID:984a58c6-0234-4ee5-b3c8-cde93ec2800b
DTSTAMP:20260422T150157Z
DESCRIPTION:Join us for our Annual Celebration of Home Fundraising Dinner!
DTSTART;TZID=America/Denver:20230804T173000
DTEND;TZID=America/Denver:20230804T220000
LOCATION:Occhiato Ballroom\, CSU-Pueblo
SUMMARY:Celebration of Home 2023
END:VEVENT
END:VCALENDAR
