BEGIN:VCALENDAR
VERSION:2.0
PRODID:-//nwsoco.org//NONSGML kigkonsult.se iCalcreator 2.30.10//
CALSCALE:GREGORIAN
METHOD:PUBLISH
UID:8a07b255-e528-4adc-8ace-de6d42f0f647
X-WR-CALDESC:
X-WR-RELCALID:0893e5777ffa6b0a2a9e340505fd05c3
X-WR-TIMEZONE:America/Denver
BEGIN:VTIMEZONE
TZID:America/Denver
BEGIN:STANDARD
TZNAME:MST
DTSTART:20221106T020000
TZOFFSETFROM:-0600
TZOFFSETTO:-0700
RDATE:20231105T020000
RDATE:20241103T020000
END:STANDARD
BEGIN:DAYLIGHT
TZNAME:MDT
DTSTART:20230312T020000
TZOFFSETFROM:-0700
TZOFFSETTO:-0600
RDATE:20240310T020000
END:DAYLIGHT
END:VTIMEZONE
BEGIN:VEVENT
UID:c4bf788c-619a-4b86-920c-c888c74ffcf0
DTSTAMP:20260422T163749Z
DESCRIPTION:
DTSTART;TZID=America/Denver:20230907T100000
DTEND;TZID=America/Denver:20230907T160000
LOCATION:415 Walsen Ave.\, Walsenburg\, CO 81089 US
SUMMARY:Homebuyer Education - Walsenburg
END:VEVENT
END:VCALENDAR
