BEGIN:VCALENDAR
VERSION:2.0
PRODID:-//nwsoco.org//NONSGML kigkonsult.se iCalcreator 2.30.10//
CALSCALE:GREGORIAN
METHOD:PUBLISH
UID:2c31e277-b181-4e2a-a63d-3fcedd0ffe7c
X-WR-CALDESC:
X-WR-RELCALID:1c7070649d379a2f9a172ffc03471df1
X-WR-TIMEZONE:America/Denver
BEGIN:VTIMEZONE
TZID:America/Denver
BEGIN:STANDARD
TZNAME:MST
DTSTART:20221106T020000
TZOFFSETFROM:-0600
TZOFFSETTO:-0700
RDATE:20231105T020000
RDATE:20241103T020000
END:STANDARD
BEGIN:DAYLIGHT
TZNAME:MDT
DTSTART:20230312T020000
TZOFFSETFROM:-0700
TZOFFSETTO:-0600
RDATE:20240310T020000
RDATE:20250309T020000
END:DAYLIGHT
END:VTIMEZONE
BEGIN:VEVENT
UID:21817693-c655-4338-8b3b-c21e183f349b
DTSTAMP:20260422T181444Z
DESCRIPTION:
DTSTART;TZID=America/Denver:20231012T100000
DTEND;TZID=America/Denver:20231012T160000
LOCATION:415 Walsen Ave\, Walsenburg\, CO 81089 US
SUMMARY:Homebuyer Education - Walsenburg
END:VEVENT
END:VCALENDAR
