BEGIN:VCALENDAR
VERSION:2.0
PRODID:-//nwsoco.org//NONSGML kigkonsult.se iCalcreator 2.30.10//
CALSCALE:GREGORIAN
METHOD:PUBLISH
UID:b3359b00-0f65-4ec9-a98d-4486e14faaa0
X-WR-CALDESC:
X-WR-RELCALID:45cb64c459214cd81178f30250af3041
X-WR-TIMEZONE:America/Denver
BEGIN:VTIMEZONE
TZID:America/Denver
BEGIN:STANDARD
TZNAME:MST
DTSTART:20231105T020000
TZOFFSETFROM:-0600
TZOFFSETTO:-0700
RDATE:20241103T020000
END:STANDARD
BEGIN:DAYLIGHT
TZNAME:MDT
DTSTART:20230312T020000
TZOFFSETFROM:-0700
TZOFFSETTO:-0600
RDATE:20240310T020000
RDATE:20250309T020000
END:DAYLIGHT
END:VTIMEZONE
BEGIN:VEVENT
UID:3b2eb931-316c-4574-a706-06cc4244fc9b
DTSTAMP:20260422T194545Z
DESCRIPTION:
DTSTART;TZID=America/Denver:20231130T130000
DTEND;TZID=America/Denver:20231130T160000
LOCATION:1241 E Routt Ave.\, Pueblo\, CO 81004 US
SUMMARY:Financial Fitness
END:VEVENT
END:VCALENDAR
