BEGIN:VCALENDAR
VERSION:2.0
PRODID:-//nwsoco.org//NONSGML kigkonsult.se iCalcreator 2.30.10//
CALSCALE:GREGORIAN
METHOD:PUBLISH
UID:ba399e35-67f6-4581-841c-239376010ce7
X-WR-CALDESC:
X-WR-RELCALID:262329a78dab1c5a8fcc0fa3f3cf7368
X-WR-TIMEZONE:America/Denver
BEGIN:VTIMEZONE
TZID:America/Denver
BEGIN:STANDARD
TZNAME:MST
DTSTART:20231105T020000
TZOFFSETFROM:-0600
TZOFFSETTO:-0700
RDATE:20241103T020000
END:STANDARD
BEGIN:DAYLIGHT
TZNAME:MDT
DTSTART:20230312T020000
TZOFFSETFROM:-0700
TZOFFSETTO:-0600
RDATE:20240310T020000
RDATE:20250309T020000
END:DAYLIGHT
END:VTIMEZONE
BEGIN:VEVENT
UID:71893666-bf27-40f9-9599-3b7e70feff30
DTSTAMP:20260422T211135Z
DESCRIPTION:
DTSTART;TZID=America/Denver:20231207T100000
DTEND;TZID=America/Denver:20231207T160000
LOCATION:415 Walsen Ave.\, Walsenburg\, CO 81089 US
SUMMARY:Homebuyer Education - Walsenburg
END:VEVENT
END:VCALENDAR
