BEGIN:VCALENDAR
VERSION:2.0
PRODID:-//nwsoco.org//NONSGML kigkonsult.se iCalcreator 2.30.10//
CALSCALE:GREGORIAN
METHOD:PUBLISH
UID:e4547456-008f-4bf5-b204-3ed6186d17a0
X-WR-CALDESC:
X-WR-RELCALID:ae5415b9a19d6e01f158e8e5e9583468
X-WR-TIMEZONE:America/Denver
BEGIN:VTIMEZONE
TZID:America/Denver
BEGIN:STANDARD
TZNAME:MST
DTSTART:20231105T020000
TZOFFSETFROM:-0600
TZOFFSETTO:-0700
RDATE:20241103T020000
END:STANDARD
BEGIN:DAYLIGHT
TZNAME:MDT
DTSTART:20230312T020000
TZOFFSETFROM:-0700
TZOFFSETTO:-0600
RDATE:20240310T020000
RDATE:20250309T020000
END:DAYLIGHT
END:VTIMEZONE
BEGIN:VEVENT
UID:9827ac6c-a2f3-4ebb-a41f-0d1f60e4e8df
DTSTAMP:20260422T224334Z
DESCRIPTION:
DTSTART;TZID=America/Denver:20240120T090000
DTEND;TZID=America/Denver:20240120T150000
LOCATION:1241 E Routt Ave\,\, PUEBLO\, CO 81004 US
SUMMARY:Homebuyer Education - Pueblo
END:VEVENT
END:VCALENDAR
