BEGIN:VCALENDAR
VERSION:2.0
PRODID:-//nwsoco.org//NONSGML kigkonsult.se iCalcreator 2.30.10//
CALSCALE:GREGORIAN
METHOD:PUBLISH
UID:01fe4639-125a-4fd6-a6e6-e4d0789da942
X-WR-CALDESC:
X-WR-RELCALID:c636fb2e5286372dda10648276683140
X-WR-TIMEZONE:America/Denver
BEGIN:VTIMEZONE
TZID:America/Denver
BEGIN:STANDARD
TZNAME:MST
DTSTART:20231105T020000
TZOFFSETFROM:-0600
TZOFFSETTO:-0700
RDATE:20241103T020000
END:STANDARD
BEGIN:DAYLIGHT
TZNAME:MDT
DTSTART:20230312T020000
TZOFFSETFROM:-0700
TZOFFSETTO:-0600
RDATE:20240310T020000
RDATE:20250309T020000
END:DAYLIGHT
END:VTIMEZONE
BEGIN:VEVENT
UID:90e267b4-09ed-4f69-93ed-c156c74e34aa
DTSTAMP:20260422T224235Z
DESCRIPTION:
DTSTART;TZID=America/Denver:20240125T130000
DTEND;TZID=America/Denver:20240125T160000
LOCATION:1241 E Routt Ave.\, Pueblo\, CO 81004 US
SUMMARY:Financial Fitness
END:VEVENT
END:VCALENDAR
