BEGIN:VCALENDAR
VERSION:2.0
PRODID:-//nwsoco.org//NONSGML kigkonsult.se iCalcreator 2.30.10//
CALSCALE:GREGORIAN
METHOD:PUBLISH
UID:aa906d9c-556b-4987-b376-a2b57852b7cd
X-WR-CALDESC:
X-WR-RELCALID:0c6b30cd5a111fd20d2c5f78b69ee3df
X-WR-TIMEZONE:America/Denver
BEGIN:VTIMEZONE
TZID:America/Denver
BEGIN:STANDARD
TZNAME:MST
DTSTART:20251102T020000
TZOFFSETFROM:-0600
TZOFFSETTO:-0700
RDATE:20261101T020000
END:STANDARD
BEGIN:DAYLIGHT
TZNAME:MDT
DTSTART:20260308T020000
TZOFFSETFROM:-0700
TZOFFSETTO:-0600
RDATE:20270314T020000
END:DAYLIGHT
END:VTIMEZONE
BEGIN:VEVENT
UID:51b3c599-ea7b-48c9-9ecf-17dd903ff4f2
DTSTAMP:20260422T130109Z
DESCRIPTION:
DTSTART;TZID=America/Denver:20260310T100000
DTEND;TZID=America/Denver:20260310T160000
LOCATION:415 Walsen Ave\, Walsenburg\, AL 81089 US
SUMMARY:Homebuyer Education - Walsenburg
END:VEVENT
END:VCALENDAR
