BEGIN:VCALENDAR
VERSION:2.0
PRODID:-//nwsoco.org//NONSGML kigkonsult.se iCalcreator 2.30.10//
CALSCALE:GREGORIAN
METHOD:PUBLISH
UID:865667bf-3028-45e9-9727-d0a24658af97
X-WR-CALDESC:NeighborWorks Southern Colorado 6th Annual Golf Scramble! Come
  PAR-TEE with us!
X-WR-RELCALID:70f8a90e21f74deaa8a31d7a646e324e
X-WR-TIMEZONE:America/Denver
BEGIN:VTIMEZONE
TZID:America/Denver
BEGIN:STANDARD
TZNAME:MST
DTSTART:20251102T020000
TZOFFSETFROM:-0600
TZOFFSETTO:-0700
RDATE:20261101T020000
RDATE:20271107T020000
END:STANDARD
BEGIN:DAYLIGHT
TZNAME:MDT
DTSTART:20260308T020000
TZOFFSETFROM:-0700
TZOFFSETTO:-0600
RDATE:20270314T020000
END:DAYLIGHT
END:VTIMEZONE
BEGIN:VEVENT
UID:43e302d7-036f-41f6-b63a-e20c8baf7685
DTSTAMP:20260422T131117Z
DESCRIPTION:NeighborWorks Southern Colorado 6th Annual Golf Scramble! Come 
 PAR-TEE with us!
DTSTART;TZID=America/Denver:20260508T040000
DTEND;TZID=America/Denver:20260508T040001
LOCATION:3900 Thatcher Ave\, Pueblo\, CO 81005 US
SUMMARY:6th Annual Golf Scramble
END:VEVENT
END:VCALENDAR
