BEGIN:VCALENDAR
VERSION:2.0
PRODID:-//nwsoco.org//NONSGML kigkonsult.se iCalcreator 2.30.10//
CALSCALE:GREGORIAN
METHOD:PUBLISH
UID:6e99100b-6fd3-43d1-8949-98ac27410cc8
X-WR-CALDESC:
X-WR-RELCALID:f89613957da43350a163e32073e28ca1
X-WR-TIMEZONE:America/Denver
BEGIN:VTIMEZONE
TZID:America/Denver
BEGIN:STANDARD
TZNAME:MST
DTSTART:20251102T020000
TZOFFSETFROM:-0600
TZOFFSETTO:-0700
RDATE:20261101T020000
RDATE:20271107T020000
END:STANDARD
BEGIN:DAYLIGHT
TZNAME:MDT
DTSTART:20260308T020000
TZOFFSETFROM:-0700
TZOFFSETTO:-0600
RDATE:20270314T020000
END:DAYLIGHT
END:VTIMEZONE
BEGIN:VEVENT
UID:58af6a77-4192-40e0-9435-1d2749dc95ce
DTSTAMP:20260422T131908Z
DESCRIPTION:
DTSTART;TZID=America/Denver:20260516T090000
DTEND;TZID=America/Denver:20260516T150000
LOCATION:1241 E Routt Ave\,\, PUEBLO\, CO 81004 US
SUMMARY:Homebuyer Education - Pueblo
END:VEVENT
END:VCALENDAR
