BEGIN:VCALENDAR
VERSION:2.0
PRODID:-//nwsoco.org//NONSGML kigkonsult.se iCalcreator 2.30.10//
CALSCALE:GREGORIAN
METHOD:PUBLISH
UID:68411708-02a0-4d83-8156-f308bffcf731
X-WR-CALDESC:
X-WR-RELCALID:7e503f5d3e9cdcecca5da2f5cd405e1f
X-WR-TIMEZONE:America/Denver
BEGIN:VTIMEZONE
TZID:America/Denver
BEGIN:STANDARD
TZNAME:MST
DTSTART:20251102T020000
TZOFFSETFROM:-0600
TZOFFSETTO:-0700
RDATE:20261101T020000
RDATE:20271107T020000
END:STANDARD
BEGIN:DAYLIGHT
TZNAME:MDT
DTSTART:20260308T020000
TZOFFSETFROM:-0700
TZOFFSETTO:-0600
RDATE:20270314T020000
END:DAYLIGHT
END:VTIMEZONE
BEGIN:VEVENT
UID:e3e73710-0a2a-4c75-bc5c-24e3a5d71724
DTSTAMP:20260422T131327Z
DESCRIPTION:
DTSTART;TZID=America/Denver:20260520T090000
DTEND;TZID=America/Denver:20260520T150000
LOCATION:1661 Mesa Ave.\, Colorado Springs\, CO 80906 US
SUMMARY:Homebuyer Education - Colorado Springs
END:VEVENT
END:VCALENDAR
