BEGIN:VCALENDAR
VERSION:2.0
PRODID:-//nwsoco.org//NONSGML kigkonsult.se iCalcreator 2.30.10//
CALSCALE:GREGORIAN
METHOD:PUBLISH
UID:03904ad5-b6cf-44aa-afa6-b396633ff636
X-WR-CALDESC:
X-WR-RELCALID:e57f502503e0fff17f3bd17204bbbebe
X-WR-TIMEZONE:America/Denver
BEGIN:VTIMEZONE
TZID:America/Denver
BEGIN:STANDARD
TZNAME:MST
DTSTART:20251102T020000
TZOFFSETFROM:-0600
TZOFFSETTO:-0700
RDATE:20261101T020000
RDATE:20271107T020000
END:STANDARD
BEGIN:DAYLIGHT
TZNAME:MDT
DTSTART:20260308T020000
TZOFFSETFROM:-0700
TZOFFSETTO:-0600
RDATE:20270314T020000
END:DAYLIGHT
END:VTIMEZONE
BEGIN:VEVENT
UID:3a0a3235-cb02-4513-980f-e4ff5553af1e
DTSTAMP:20260422T162833Z
DESCRIPTION:
DTSTART;TZID=America/Denver:20260702T100000
DTEND;TZID=America/Denver:20260702T120000
LOCATION:1241 E Routt Ave.\, Pueblo\, AL 81004 US
SUMMARY:Financial Fitness
END:VEVENT
END:VCALENDAR
