BEGIN:VCALENDAR
VERSION:2.0
PRODID:-//nwsoco.org//NONSGML kigkonsult.se iCalcreator 2.30.10//
CALSCALE:GREGORIAN
METHOD:PUBLISH
UID:d687f889-1ca8-483e-8975-7fbdbbcee04e
X-WR-CALDESC:Join us for our Annual Celebration of Home Fundraising Luncheo
 n!
X-WR-RELCALID:7cc902ff49745c9189237d21ca533188
X-WR-TIMEZONE:America/Denver
BEGIN:VTIMEZONE
TZID:America/Denver
BEGIN:STANDARD
TZNAME:MST
DTSTART:20251102T020000
TZOFFSETFROM:-0600
TZOFFSETTO:-0700
RDATE:20261101T020000
RDATE:20271107T020000
END:STANDARD
BEGIN:DAYLIGHT
TZNAME:MDT
DTSTART:20260308T020000
TZOFFSETFROM:-0700
TZOFFSETTO:-0600
RDATE:20270314T020000
END:DAYLIGHT
END:VTIMEZONE
BEGIN:VEVENT
UID:b025cf00-215a-4a04-b00e-c6eb63a4ea93
DTSTAMP:20260422T181420Z
DESCRIPTION:Join us for our Annual Celebration of Home Fundraising Luncheon
 !
DTSTART;TZID=America/Denver:20260814T110000
DTEND;TZID=America/Denver:20260814T140000
LOCATION:Occhiato Ballroom\, CSU-Pueblo
SUMMARY:Celebration of Home Luncheon 2026
END:VEVENT
END:VCALENDAR
