BEGIN:VCALENDAR
VERSION:2.0
PRODID:-//nwsoco.org//NONSGML kigkonsult.se iCalcreator 2.30.10//
CALSCALE:GREGORIAN
METHOD:PUBLISH
UID:e5945a4c-acef-4dd9-8c7d-38b46a341fd4
X-WR-CALDESC:
X-WR-RELCALID:7a763bd2abf069ce1b1ddaa07f3fc793
X-WR-TIMEZONE:America/Denver
BEGIN:VTIMEZONE
TZID:America/Denver
BEGIN:STANDARD
TZNAME:MST
DTSTART:20261101T020000
TZOFFSETFROM:-0600
TZOFFSETTO:-0700
RDATE:20271107T020000
END:STANDARD
BEGIN:DAYLIGHT
TZNAME:MDT
DTSTART:20260308T020000
TZOFFSETFROM:-0700
TZOFFSETTO:-0600
RDATE:20270314T020000
RDATE:20280312T020000
END:DAYLIGHT
END:VTIMEZONE
BEGIN:VEVENT
UID:3c2b34e6-9f9a-4dbc-88dd-16345cd85c28
DTSTAMP:20260422T235702Z
DESCRIPTION:
DTSTART;TZID=America/Denver:20261201T100000
DTEND;TZID=America/Denver:20261201T160000
LOCATION:415 Walsen Ave\, Walsenburg\, AL 81089 US
SUMMARY:Homebuyer Education - Walsenburg
END:VEVENT
END:VCALENDAR
