BEGIN:VCALENDAR
VERSION:2.0
PRODID:-//nwsoco.org//NONSGML kigkonsult.se iCalcreator 2.30.10//
CALSCALE:GREGORIAN
METHOD:PUBLISH
UID:6485515c-9023-4ab6-a89b-6cc294a80b56
X-WR-CALDESC:NeighborWorks Southern Colorado 5th Annual Golf Scramble! Come
  PAR-TEE with us!
X-WR-RELCALID:cfa42b004d492d4689a26b8e86a739ad
X-WR-TIMEZONE:America/Denver
BEGIN:VTIMEZONE
TZID:America/Denver
BEGIN:STANDARD
TZNAME:MST
DTSTART:20241103T020000
TZOFFSETFROM:-0600
TZOFFSETTO:-0700
RDATE:20251102T020000
RDATE:20261101T020000
END:STANDARD
BEGIN:DAYLIGHT
TZNAME:MDT
DTSTART:20250309T020000
TZOFFSETFROM:-0700
TZOFFSETTO:-0600
RDATE:20260308T020000
END:DAYLIGHT
END:VTIMEZONE
BEGIN:VEVENT
UID:ab669e74-a941-42e6-8cc9-daf9c2c28cd9
DTSTAMP:20260426T043452Z
DESCRIPTION:NeighborWorks Southern Colorado 5th Annual Golf Scramble! Come 
 PAR-TEE with us!
DTSTART;TZID=America/Denver:20250502T040000
DTEND;TZID=America/Denver:20250502T040001
LOCATION:3900 Thatcher Ave\, Pueblo\, CO 81005 US
SUMMARY:5th Annual Golf Scramble
END:VEVENT
END:VCALENDAR
