BEGIN:VCALENDAR
VERSION:2.0
PRODID:-//nwsoco.org//NONSGML kigkonsult.se iCalcreator 2.30.10//
CALSCALE:GREGORIAN
METHOD:PUBLISH
UID:f58065ce-00c1-49e8-ba21-3652c632260f
X-WR-CALDESC:
X-WR-RELCALID:40ad68414bfcc8c68cd0a4d0f3d23c49
X-WR-TIMEZONE:America/Denver
BEGIN:VTIMEZONE
TZID:America/Denver
BEGIN:STANDARD
TZNAME:MST
DTSTART:20241103T020000
TZOFFSETFROM:-0600
TZOFFSETTO:-0700
RDATE:20251102T020000
RDATE:20261101T020000
END:STANDARD
BEGIN:DAYLIGHT
TZNAME:MDT
DTSTART:20250309T020000
TZOFFSETFROM:-0700
TZOFFSETTO:-0600
RDATE:20260308T020000
END:DAYLIGHT
END:VTIMEZONE
BEGIN:VEVENT
UID:23ea340d-eaa0-43bc-bf2e-aa12aa07089a
DTSTAMP:20260426T013431Z
DESCRIPTION:
DTSTART;TZID=America/Denver:20250719T090000
DTEND;TZID=America/Denver:20250719T150000
LOCATION:1241 E Routt Ave\,\, PUEBLO\, CO 81004 US
SUMMARY:Homebuyer Education - Pueblo
END:VEVENT
END:VCALENDAR
