BEGIN:VCALENDAR
VERSION:2.0
PRODID:-//nwsoco.org//NONSGML kigkonsult.se iCalcreator 2.30.10//
CALSCALE:GREGORIAN
METHOD:PUBLISH
UID:043bc473-669e-4e3e-8ffb-05660d1b9905
X-WR-CALDESC:
X-WR-RELCALID:7eeb6ccabecbcd8bb4c4952d9cbf339c
X-WR-TIMEZONE:America/Denver
BEGIN:VTIMEZONE
TZID:America/Denver
BEGIN:STANDARD
TZNAME:MST
DTSTART:20251102T020000
TZOFFSETFROM:-0600
TZOFFSETTO:-0700
RDATE:20261101T020000
END:STANDARD
BEGIN:DAYLIGHT
TZNAME:MDT
DTSTART:20250309T020000
TZOFFSETFROM:-0700
TZOFFSETTO:-0600
RDATE:20260308T020000
RDATE:20270314T020000
END:DAYLIGHT
END:VTIMEZONE
BEGIN:VEVENT
UID:e2170e89-197f-4732-a44a-fb3484b6819f
DTSTAMP:20260425T145202Z
DESCRIPTION:
DTSTART;TZID=America/Denver:20260210T100000
DTEND;TZID=America/Denver:20260210T160000
LOCATION:415 Walsen Ave\, Walsenburg\, AL 81089 US
SUMMARY:Homebuyer Education - Walsenburg
END:VEVENT
END:VCALENDAR
