BEGIN:VCALENDAR
VERSION:2.0
PRODID:-//nwsoco.org//NONSGML kigkonsult.se iCalcreator 2.30.10//
CALSCALE:GREGORIAN
METHOD:PUBLISH
UID:966b33eb-c433-4b29-9984-b97cf1943fbd
X-WR-CALDESC:
X-WR-RELCALID:7d1095a65289e6c61a84990d53c92a1e
X-WR-TIMEZONE:America/Denver
BEGIN:VTIMEZONE
TZID:America/Denver
BEGIN:STANDARD
TZNAME:MST
DTSTART:20251102T020000
TZOFFSETFROM:-0600
TZOFFSETTO:-0700
RDATE:20261101T020000
END:STANDARD
BEGIN:DAYLIGHT
TZNAME:MDT
DTSTART:20260308T020000
TZOFFSETFROM:-0700
TZOFFSETTO:-0600
RDATE:20270314T020000
END:DAYLIGHT
END:VTIMEZONE
BEGIN:VEVENT
UID:c9df260e-7a8f-46e0-bcd0-cca6810678ba
DTSTAMP:20260425T131024Z
DESCRIPTION:
DTSTART;TZID=America/Denver:20260311T090000
DTEND;TZID=America/Denver:20260311T150000
LOCATION:1661 Mesa Ave.\, Colorado Springs\, CO 80906 US
SUMMARY:Homebuyer Education - Colorado Springs
END:VEVENT
END:VCALENDAR
